BEGIN:VCALENDAR
VERSION:2.0
PRODID:-//hacksw/handcal//NONSGML v1.0//EN
BEGIN:VEVENT
SUMMARY:"INNOVEO GOLF CUP by Maison CADIOU"
UID:43ebdcd7-7b8a-4924-bc74-fb039dc65407
DTSTART:20260516T220000Z
DTEND:20260517T220000Z
LOCATION:Localisation   
CATEGORIES:Sportif
STATUS:
URL;VALUE=URI:https://www.asgolfodet.fr/evenements/2026/05/17/innoveo-golf-cup-by-maison-cadiou-2444024
END:VEVENT
END:VCALENDAR
